BEGIN:VCALENDAR
VERSION:2.0
PRODID:-//Zuluru//Team Schedule//EN
CALSCALE:GREGORIAN
METHOD:PUBLISH
X-WR-CALNAME:Toronto ILY schedule from TUC
BEGIN:VEVENT
UID:54851@tuc.org
DTSTAMP:20260424T152414Z
CREATED:20260402T042153Z
LAST-MODIFIED:20260409T172715Z
DTSTART:20260414T030000Z
DTEND:20260414T035500Z
LOCATION;ALTREP="https://www.tuc.org/zuluru/facilities/view?facility=235":1151 King Street West\, Toronto\, Ontario
GEO:43.639322721369;-79.423333704472
X-LOCATION-URL:https://www.tuc.org/zuluru/facilities/view?facility=235
SUMMARY:Toronto ILY (home) vs Sneaky Leakers (away)
DESCRIPTION:Toronto ILY (home) vs Sneaky Leakers (away) at Lamport Stadium - Indoor A (LAM) on Mon Apr 13 2026 11:00PM to 11:55PM (they wear White and Black)
X-OPPONENT-COLOUR:White and Black
STATUS:CONFIRMED
TRANSP:OPAQUE
END:VEVENT
BEGIN:VEVENT
UID:54848@tuc.org
DTSTAMP:20260424T152414Z
CREATED:20260402T042152Z
LAST-MODIFIED:20260402T061950Z
DTSTART:20260407T020000Z
DTEND:20260407T025500Z
LOCATION;ALTREP="https://www.tuc.org/zuluru/facilities/view?facility=235":1151 King Street West\, Toronto\, Ontario
GEO:43.6390029083;-79.423207640648
X-LOCATION-URL:https://www.tuc.org/zuluru/facilities/view?facility=235
SUMMARY:Toronto ILY (home) vs Old School (away)
DESCRIPTION:Toronto ILY (home) vs Old School (away) at Lamport Stadium - Indoor B (LAM) on Mon Apr 6 2026 10:00PM to 10:55PM (they wear Blue)
X-OPPONENT-COLOUR:Blue
STATUS:CONFIRMED
TRANSP:OPAQUE
END:VEVENT
BEGIN:VEVENT
UID:54716@tuc.org
DTSTAMP:20260424T152414Z
CREATED:20260326T003609Z
LAST-MODIFIED:20260326T021614Z
DTSTART:20260331T020000Z
DTEND:20260331T025500Z
LOCATION;ALTREP="https://www.tuc.org/zuluru/facilities/view?facility=235":1151 King Street West\, Toronto\, Ontario
GEO:43.6390029083;-79.423207640648
X-LOCATION-URL:https://www.tuc.org/zuluru/facilities/view?facility=235
SUMMARY:Toronto ILY (home) vs JustDisc League v2 (away)
DESCRIPTION:Toronto ILY (home) vs JustDisc League v2 (away) at Lamport Stadium - Indoor B (LAM) on Mon Mar 30 2026 10:00PM to 10:55PM (they wear Black and White)
X-OPPONENT-COLOUR:Black and White
STATUS:CONFIRMED
TRANSP:OPAQUE
END:VEVENT
BEGIN:VEVENT
UID:54698@tuc.org
DTSTAMP:20260424T152414Z
CREATED:20260319T034435Z
LAST-MODIFIED:20260319T041251Z
DTSTART:20260324T000000Z
DTEND:20260324T005500Z
LOCATION;ALTREP="https://www.tuc.org/zuluru/facilities/view?facility=235":1151 King Street West\, Toronto\, Ontario
GEO:43.639322721369;-79.423333704472
X-LOCATION-URL:https://www.tuc.org/zuluru/facilities/view?facility=235
SUMMARY:Toronto ILY (home) vs Magic Saucerers (away)
DESCRIPTION:Toronto ILY (home) vs Magic Saucerers (away) at Lamport Stadium - Indoor A (LAM) on Mon Mar 23 2026 8:00PM to 8:55PM (they wear Green)
X-OPPONENT-COLOUR:Green
STATUS:CONFIRMED
TRANSP:OPAQUE
END:VEVENT
BEGIN:VEVENT
UID:54666@tuc.org
DTSTAMP:20260424T152414Z
CREATED:20260312T070007Z
LAST-MODIFIED:20260312T072242Z
DTSTART:20260317T010000Z
DTEND:20260317T015500Z
LOCATION;ALTREP="https://www.tuc.org/zuluru/facilities/view?facility=235":1151 King Street West\, Toronto\, Ontario
GEO:43.639322721369;-79.423333704472
X-LOCATION-URL:https://www.tuc.org/zuluru/facilities/view?facility=235
SUMMARY:Toronto ILY (away) vs Tiny Totes (home)
DESCRIPTION:Toronto ILY (away) vs Tiny Totes (home) at Lamport Stadium - Indoor A (LAM) on Mon Mar 16 2026 9:00PM to 9:55PM (they wear Purple)
X-OPPONENT-COLOUR:Purple
STATUS:CONFIRMED
TRANSP:OPAQUE
END:VEVENT
BEGIN:VEVENT
UID:54639@tuc.org
DTSTAMP:20260424T152414Z
CREATED:20260305T220951Z
LAST-MODIFIED:20260305T223429Z
DTSTART:20260310T000000Z
DTEND:20260310T005500Z
LOCATION;ALTREP="https://www.tuc.org/zuluru/facilities/view?facility=235":1151 King Street West\, Toronto\, Ontario
GEO:43.639322721369;-79.423333704472
X-LOCATION-URL:https://www.tuc.org/zuluru/facilities/view?facility=235
SUMMARY:Toronto ILY (away) vs Disciples of Love (home)
DESCRIPTION:Toronto ILY (away) vs Disciples of Love (home) at Lamport Stadium - Indoor A (LAM) on Mon Mar 9 2026 8:00PM to 8:55PM (they wear Black)
X-OPPONENT-COLOUR:Black
STATUS:CONFIRMED
TRANSP:OPAQUE
END:VEVENT
BEGIN:VEVENT
UID:54539@tuc.org
DTSTAMP:20260424T152414Z
CREATED:20260225T190701Z
LAST-MODIFIED:20260226T032437Z
DTSTART:20260303T040000Z
DTEND:20260303T045500Z
LOCATION;ALTREP="https://www.tuc.org/zuluru/facilities/view?facility=235":1151 King Street West\, Toronto\, Ontario
GEO:43.638684092665;-79.423094987869
X-LOCATION-URL:https://www.tuc.org/zuluru/facilities/view?facility=235
SUMMARY:Toronto ILY (home) vs Old School (away)
DESCRIPTION:Toronto ILY (home) vs Old School (away) at Lamport Stadium - Indoor C (LAM) on Mon Mar 2 2026 11:00PM to 11:55PM (they wear Blue)
X-OPPONENT-COLOUR:Blue
STATUS:CONFIRMED
TRANSP:OPAQUE
END:VEVENT
BEGIN:VEVENT
UID:54525@tuc.org
DTSTAMP:20260424T152414Z
CREATED:20260219T231906Z
LAST-MODIFIED:20260220T072025Z
DTSTART:20260224T020000Z
DTEND:20260224T025500Z
LOCATION;ALTREP="https://www.tuc.org/zuluru/facilities/view?facility=235":1151 King Street West\, Toronto\, Ontario
GEO:43.6390029083;-79.423207640648
X-LOCATION-URL:https://www.tuc.org/zuluru/facilities/view?facility=235
SUMMARY:Toronto ILY (home) vs Congee Queens (away)
DESCRIPTION:Toronto ILY (home) vs Congee Queens (away) at Lamport Stadium - Indoor B (LAM) on Mon Feb 23 2026 9:00PM to 9:55PM (they wear White)
X-OPPONENT-COLOUR:White
STATUS:CONFIRMED
TRANSP:OPAQUE
END:VEVENT
BEGIN:VEVENT
UID:54461@tuc.org
DTSTAMP:20260424T152414Z
CREATED:20260211T193107Z
LAST-MODIFIED:20260211T231244Z
DTSTART:20260217T000000Z
DTEND:20260217T005500Z
LOCATION;ALTREP="https://www.tuc.org/zuluru/facilities/view?facility=235":1151 King Street West\, Toronto\, Ontario
GEO:43.6390029083;-79.423207640648
X-LOCATION-URL:https://www.tuc.org/zuluru/facilities/view?facility=235
SUMMARY:Toronto ILY (home) vs JustDisc League v2 (away)
DESCRIPTION:Toronto ILY (home) vs JustDisc League v2 (away) at Lamport Stadium - Indoor B (LAM) on Mon Feb 16 2026 7:00PM to 7:55PM (they wear Black and White)
X-OPPONENT-COLOUR:Black and White
STATUS:CONFIRMED
TRANSP:OPAQUE
END:VEVENT
BEGIN:VEVENT
UID:54410@tuc.org
DTSTAMP:20260424T152414Z
CREATED:20260128T005613Z
LAST-MODIFIED:20260128T010956Z
DTSTART:20260210T030000Z
DTEND:20260210T035500Z
LOCATION;ALTREP="https://www.tuc.org/zuluru/facilities/view?facility=235":1151 King Street West\, Toronto\, Ontario
GEO:43.6390029083;-79.423207640648
X-LOCATION-URL:https://www.tuc.org/zuluru/facilities/view?facility=235
SUMMARY:Toronto ILY (away) vs Super Time Time (home)
DESCRIPTION:Toronto ILY (away) vs Super Time Time (home) at Lamport Stadium - Indoor B (LAM) on Mon Feb 9 2026 10:00PM to 10:55PM (they wear White)
X-OPPONENT-COLOUR:White
STATUS:CONFIRMED
TRANSP:OPAQUE
END:VEVENT
BEGIN:VEVENT
UID:54395@tuc.org
DTSTAMP:20260424T152414Z
CREATED:20260128T002246Z
LAST-MODIFIED:20260128T005348Z
DTSTART:20260203T010000Z
DTEND:20260203T015500Z
LOCATION;ALTREP="https://www.tuc.org/zuluru/facilities/view?facility=235":1151 King Street West\, Toronto\, Ontario
GEO:43.638684092665;-79.423094987869
X-LOCATION-URL:https://www.tuc.org/zuluru/facilities/view?facility=235
SUMMARY:Toronto ILY (home) vs Tiny Totes (away)
DESCRIPTION:Toronto ILY (home) vs Tiny Totes (away) at Lamport Stadium - Indoor C (LAM) on Mon Feb 2 2026 8:00PM to 8:55PM (they wear Purple)
X-OPPONENT-COLOUR:Purple
STATUS:CONFIRMED
TRANSP:OPAQUE
END:VEVENT
END:VCALENDAR
